BEGIN:VCALENDAR
VERSION:2.0
PRODID:-//wp-events-plugin.com//7.2.3.1//EN
BEGIN:VEVENT
UID:526@gotitsrl.com
DTSTART;TZID=Europe/Rome:20251114T090000
DTEND;TZID=Europe/Rome:20251114T180000
DTSTAMP:20250925T082116Z
URL:https://gotitsrl.com/eventi/esame-certificazione-bim-26/
SUMMARY:Esame Certificazione BIM
DESCRIPTION:
CATEGORIES:Eventi
LOCATION:Sede Gotit\, Via Michelangelo Buonarroti\, 1\, San Zeno Naviglio\,
  Brescia\, 25010\, Lombardia\, Italia
GEO:45.498829785337925;10.224193276196274
X-APPLE-STRUCTURED-LOCATION;VALUE=URI;X-ADDRESS=Via Michelangelo Buonarroti
 \, 1\, San Zeno Naviglio\, Brescia\, 25010\, Lombardia\, Italia;X-APPLE-RA
 DIUS=100;X-TITLE=Sede Gotit:geo:45.498829785337925,10.224193276196274
END:VEVENT
BEGIN:VTIMEZONE
TZID:Europe/Rome
X-LIC-LOCATION:Europe/Rome
BEGIN:STANDARD
DTSTART:20251026T020000
TZOFFSETFROM:+0200
TZOFFSETTO:+0100
TZNAME:CET
END:STANDARD
END:VTIMEZONE
END:VCALENDAR