BEGIN:VCALENDAR
VERSION:2.0
PRODID:-//wp-events-plugin.com//7.2.3.1//EN
BEGIN:VEVENT
UID:517@gotitsrl.com
DTSTART;TZID=Europe/Rome:20250701T090000
DTEND;TZID=Europe/Rome:20250701T180000
DTSTAMP:20250317T132252Z
URL:https://gotitsrl.com/eventi/esame-certificazione-bim-18/
SUMMARY:Esame Certificazione BIM
DESCRIPTION:
CATEGORIES:Eventi
LOCATION:Sede Gotit\, Via Michelangelo Buonarroti\, 1\, San Zeno Naviglio\,
  Brescia\, 25010\, Lombardia\, Italia
GEO:45.498829785337925;10.224193276196274
X-APPLE-STRUCTURED-LOCATION;VALUE=URI;X-ADDRESS=Via Michelangelo Buonarroti
 \, 1\, San Zeno Naviglio\, Brescia\, 25010\, Lombardia\, Italia;X-APPLE-RA
 DIUS=100;X-TITLE=Sede Gotit:geo:45.498829785337925,10.224193276196274
END:VEVENT
BEGIN:VTIMEZONE
TZID:Europe/Rome
X-LIC-LOCATION:Europe/Rome
BEGIN:DAYLIGHT
DTSTART:20250330T030000
TZOFFSETFROM:+0100
TZOFFSETTO:+0200
TZNAME:CEST
END:DAYLIGHT
END:VTIMEZONE
END:VCALENDAR