BEGIN:VCALENDAR
VERSION:2.0
PRODID:-//wp-events-plugin.com//7.2.3.1//EN
BEGIN:VEVENT
UID:559@gotitsrl.com
DTSTART;TZID=Europe/Rome:20260505T090000
DTEND;TZID=Europe/Rome:20260505T130000
DTSTAMP:20260210T102259Z
URL:https://gotitsrl.com/eventi/corso-la-metodologia-bim-attraverso-lutili
 zzo-di-autodesk-revit-40-ore-30/
SUMMARY:Corso La metodologia BIM attraverso l’utilizzo di Autodesk Revit 
 – 40 ore
DESCRIPTION:Decima Lezione\n\n\n
CATEGORIES:Corsi,Eventi
LOCATION:Sede Gotit\, Via Michelangelo Buonarroti\, 1\, San Zeno Naviglio\,
  Brescia\, 25010\, Lombardia\, Italia
GEO:45.498829785337925;10.224193276196274
X-APPLE-STRUCTURED-LOCATION;VALUE=URI;X-ADDRESS=Via Michelangelo Buonarroti
 \, 1\, San Zeno Naviglio\, Brescia\, 25010\, Lombardia\, Italia;X-APPLE-RA
 DIUS=100;X-TITLE=Sede Gotit:geo:45.498829785337925,10.224193276196274
END:VEVENT
BEGIN:VTIMEZONE
TZID:Europe/Rome
X-LIC-LOCATION:Europe/Rome
BEGIN:DAYLIGHT
DTSTART:20260329T030000
TZOFFSETFROM:+0100
TZOFFSETTO:+0200
TZNAME:CEST
END:DAYLIGHT
END:VTIMEZONE
END:VCALENDAR