BEGIN:VCALENDAR
VERSION:2.0
PRODID:-//wp-events-plugin.com//7.2.3.1//EN
BEGIN:VEVENT
UID:460@gotitsrl.com
DTSTART;TZID=Europe/Rome:20231113T090000
DTEND;TZID=Europe/Rome:20231113T130000
DTSTAMP:20230825T153648Z
URL:https://gotitsrl.com/eventi/brescia-corso-la-metodologia-bim-attravers
 o-lutilizzo-di-autodesk-revit-lezione-2/
SUMMARY:Brescia: Corso La metodologia BIM attraverso l’utilizzo di Autode
 sk Revit - Lezione 2
DESCRIPTION:
LOCATION:Gotit SRL\, via Michelangelo Buonarroti\, 1\, San Zeno Naviglio\, 
 BS\, 25010\, Italia
X-APPLE-STRUCTURED-LOCATION;VALUE=URI;X-ADDRESS=via Michelangelo Buonarroti
 \, 1\, San Zeno Naviglio\, BS\, 25010\, Italia;X-APPLE-RADIUS=100;X-TITLE=
 Gotit SRL:geo:0,0
END:VEVENT
BEGIN:VTIMEZONE
TZID:Europe/Rome
X-LIC-LOCATION:Europe/Rome
BEGIN:STANDARD
DTSTART:20231029T020000
TZOFFSETFROM:+0200
TZOFFSETTO:+0100
TZNAME:CET
END:STANDARD
END:VTIMEZONE
END:VCALENDAR