BEGIN:VCALENDAR
VERSION:2.0
PRODID:-//wp-events-plugin.com//7.2.3.1//EN
BEGIN:VEVENT
UID:483@gotitsrl.com
DTSTART;TZID=Europe/Rome:20240515T090000
DTEND;TZID=Europe/Rome:20240515T130000
DTSTAMP:20240118T110124Z
URL:https://gotitsrl.com/eventi/brescia-corso-la-metodologia-bim-attravers
 o-lutilizzo-di-autodesk-revit-lezione-10/
SUMMARY:Brescia: Corso La metodologia BIM attraverso l’utilizzo di Autode
 sk Revit - Lezione 10
DESCRIPTION:
LOCATION:Gotit SRL\, via Michelangelo Buonarroti\, 1\, San Zeno Naviglio\, 
 BS\, 25010\, Italia
X-APPLE-STRUCTURED-LOCATION;VALUE=URI;X-ADDRESS=via Michelangelo Buonarroti
 \, 1\, San Zeno Naviglio\, BS\, 25010\, Italia;X-APPLE-RADIUS=100;X-TITLE=
 Gotit SRL:geo:0,0
END:VEVENT
BEGIN:VTIMEZONE
TZID:Europe/Rome
X-LIC-LOCATION:Europe/Rome
BEGIN:DAYLIGHT
DTSTART:20240331T030000
TZOFFSETFROM:+0100
TZOFFSETTO:+0200
TZNAME:CEST
END:DAYLIGHT
END:VTIMEZONE
END:VCALENDAR