BEGIN:VCALENDAR
VERSION:2.0
PRODID:-//wp-events-plugin.com//7.2.3.1//EN
BEGIN:VEVENT
UID:241@gotitsrl.com
DTSTART:20180517T090000Z
DTEND:20180517T180000Z
DTSTAMP:20180406T135518Z
URL:https://gotitsrl.com/eventi/brescia-corso-autodesk-advance-steel/
SUMMARY:Brescia – Corso Autodesk Advance Steel®
DESCRIPTION:Prima lezione\n\nOrario: 09.00-13.00  —  14.00-18.00
CATEGORIES:Corsi,Eventi
LOCATION:Sede Gotit\, Via Michelangelo Buonarroti\, 1\, San Zeno Naviglio\,
  Brescia\, 25010\, Lombardia\, Italia
GEO:45.498829785337925;10.224193276196274
X-APPLE-STRUCTURED-LOCATION;VALUE=URI;X-ADDRESS=Via Michelangelo Buonarroti
 \, 1\, San Zeno Naviglio\, Brescia\, 25010\, Lombardia\, Italia;X-APPLE-RA
 DIUS=100;X-TITLE=Sede Gotit:geo:45.498829785337925,10.224193276196274
END:VEVENT
END:VCALENDAR